BEGIN:VCALENDAR
VERSION:2.0
PRODID:-//the Beaver Canoe Club - ECPv6.10.1.1//NONSGML v1.0//EN
CALSCALE:GREGORIAN
METHOD:PUBLISH
X-ORIGINAL-URL:https://beavercanoeclub.org
X-WR-CALDESC:Events for the Beaver Canoe Club
REFRESH-INTERVAL;VALUE=DURATION:PT1H
X-Robots-Tag:noindex
X-PUBLISHED-TTL:PT1H
BEGIN:VTIMEZONE
TZID:America/Vancouver
BEGIN:DAYLIGHT
TZOFFSETFROM:-0800
TZOFFSETTO:-0700
TZNAME:PDT
DTSTART:20250309T100000
END:DAYLIGHT
BEGIN:STANDARD
TZOFFSETFROM:-0700
TZOFFSETTO:-0800
TZNAME:PST
DTSTART:20251102T090000
END:STANDARD
BEGIN:DAYLIGHT
TZOFFSETFROM:-0800
TZOFFSETTO:-0700
TZNAME:PDT
DTSTART:20260308T100000
END:DAYLIGHT
BEGIN:STANDARD
TZOFFSETFROM:-0700
TZOFFSETTO:-0800
TZNAME:PST
DTSTART:20261101T090000
END:STANDARD
END:VTIMEZONE
BEGIN:VEVENT
DTSTART;VALUE=DATE:20250921
DTEND;VALUE=DATE:20250922
DTSTAMP:20260423T164230
CREATED:20250827T182836Z
LAST-MODIFIED:20250827T182836Z
UID:55031-1758412800-1758499199@beavercanoeclub.org
SUMMARY:Autumn River Cleanup
DESCRIPTION:A fun\, family-friendly float down a local river to collect litter out of the river and make it a little cleaner. \nContact: Jenny W   j.wakeling@shaw.ca
URL:https://beavercanoeclub.org/event/autumn-river-cleanup/
LOCATION:A Nice Place Near You
CATEGORIES:Trips
ORGANIZER;CN="Jenny W":MAILTO:J.wakeling@shaw.ca
END:VEVENT
BEGIN:VEVENT
DTSTART;VALUE=DATE:20250928
DTEND;VALUE=DATE:20250929
DTSTAMP:20260423T164230
CREATED:20250923T111111Z
LAST-MODIFIED:20250923T111111Z
UID:55057-1759017600-1759103999@beavercanoeclub.org
SUMMARY:Harrison River
DESCRIPTION:A family friendly trip from Harrison Townsite to Kilby Provincial Park.  \nContact: Colin C    Collin.Clinton@outlook.com 
URL:https://beavercanoeclub.org/event/harrison-river-2/
LOCATION:Harrison Hotsprings\, British Columbia\, Canada
CATEGORIES:Trips
END:VEVENT
BEGIN:VEVENT
DTSTART;VALUE=DATE:20251003
DTEND;VALUE=DATE:20251006
DTSTAMP:20260423T164230
CREATED:20250826T202911Z
LAST-MODIFIED:20250916T184919Z
UID:55017-1759449600-1759708799@beavercanoeclub.org
SUMMARY:Fraser River\, Laidlaw (Bulger Road) to Island 22\, Campout: Gr 1 to 1+
DESCRIPTION:Fraser River\, Laidlaw (Bulger Road) to Island 22 Regional Park\, Campout: Gr 1 + \nDates    Oct 3-4-5     2025 \nJoin Rob B for this 2 night (Friday and Saturday) @ Cheam Fishing Village & Campground (about 2 hrs drive from Vancouver) & 2 day paddle down the Fraser. \n  \nhttps://www.google.com/maps/place/Cheam+Fishing+Village+and+Campground/@49.214775\,-121.7554909\,17z/data=!3m1!4b1!4m11!3m10!1s0x54846cad481097d9:0x3fd6270dc20031f0!5m4!1s2025-10-03!2i2!4m1!1i2!8m2!3d49.2147715!4d-121.752916!16s%2Fg%2F11b5wk65l4?authuser=0&entry=ttu&g_ep=EgoyMDI1MDkxNC4wIKXMDSoASAFQAw%3D%3D \n  \nbring camping gear\, tent\, sleeping bag\, mattress\, head lamp stove cooking gear & food                    \nFor a Saturday morning car shuttle and 9:30 am launch from Bulger Road in Laidlaw (Exit 160) about 30 min upstream from Cheam Fishing Village Campground.  \nWe’ll paddle approximately 20 K (with lunch break and time to explore channel options) to arrive back at our tents @ Cheam Fishing Village in the early afternoon about 2 pm. \nWord is that there’s a great restaurant “Wildcat Grill” near intersection of Yale Road & Highway 9. \nSunday morning (after shuttling cars to Island 22 Regional Park) we’ll aim to clear out of the campsite and aim for about an 8:30 launch.  Then paddle down the Fraser under the Agassiz Bridge and towards the confluence of the Harrison being sure to stay river left to avoid any possible “eddy”.  It is approximately 22 K about 4 hrs + to Island 22 Regional Park take out.  Several accounts describe this paddle as one of the most scenic to be had on the lower Fraser River.   I anticipate we should have canoes loaded up and ready to head home before 4 pm. \n  \nPaddle Gear Ensure mandatory canoeing gear is with you.  PFD\, Whistle\, bailer throw rope & spare paddle.  Fraser River Maps (paper or digital).  Leader will have Gaia Maps with route loaded\, spare batteries and waterproof carrying case as well as several printed map pages on which to track progress. \nFor Nutrition on the river\, bring snacks\, lunches& liquid refreshments for the day.  We’ll have lunch stops and breaks along the way on each leg of the trip.  Also bring toiletries\, small repair kit for incidentals and your personal small first aid kit. \n  \nContact Rob Asbeek Brusse       rbrusse1@telus.net or text  604-928-0972
URL:https://beavercanoeclub.org/event/fraser-river-agassiz-to-dewdney-regional-park-campout-gr-1-to-1/
LOCATION:Agassiz
CATEGORIES:Trips
ORGANIZER;CN="Rob B":MAILTO:rbrusse1@telus.net
END:VEVENT
BEGIN:VEVENT
DTSTART;VALUE=DATE:20251011
DTEND;VALUE=DATE:20251014
DTSTAMP:20260423T164230
CREATED:20250827T183815Z
LAST-MODIFIED:20250827T183815Z
UID:55036-1760140800-1760399999@beavercanoeclub.org
SUMMARY:Thanksgiving Weekend Canoe Camping Trip:  North Thompson River: Gr 1+ to 2
DESCRIPTION:A 3 day trip from Little Fort to Kamloops down a picturesque river in fall colors. \nTrip leader needed.  \nContact: trips@beavercanoeclub.org
URL:https://beavercanoeclub.org/event/thanksgiving-weekend-canoe-camping-trip-north-thompson-river-gr-1-to-2/
LOCATION:Kamloops\, British Columbia\, Canada
CATEGORIES:Trips
END:VEVENT
BEGIN:VEVENT
DTSTART;VALUE=DATE:20251019
DTEND;VALUE=DATE:20251020
DTSTAMP:20260423T164230
CREATED:20250827T183533Z
LAST-MODIFIED:20250827T183533Z
UID:55034-1760832000-1760918399@beavercanoeclub.org
SUMMARY:Widgeon Creek
DESCRIPTION:A beautiful day out across the Pitt River\, up Widgeon tidal Marsh\, lunch at a picnic site\, and maybe a hike to the falls. \nContact: Leigh B cat8canoe@gmail.com
URL:https://beavercanoeclub.org/event/widgeon-creek-8/
LOCATION:Pitt Meadows\, British Columbia\, Canada
CATEGORIES:Trips
ORGANIZER;CN="Leigh  B":MAILTO:cat8canoe@gmail.com 
END:VEVENT
BEGIN:VEVENT
DTSTART;VALUE=DATE:20251122
DTEND;VALUE=DATE:20251123
DTSTAMP:20260423T164230
CREATED:20251027T004910Z
LAST-MODIFIED:20251027T004910Z
UID:55082-1763769600-1763855999@beavercanoeclub.org
SUMMARY:Harrison River Fish & Fowl Paddle
DESCRIPTION:
URL:https://beavercanoeclub.org/event/harrison-river-fish-fowl-paddle-3/
LOCATION:Harrison Hot Springs
CATEGORIES:Trips
ORGANIZER;CN="Dave W":MAILTO:westell@shaw.ca
END:VEVENT
BEGIN:VEVENT
DTSTART;VALUE=DATE:20260315
DTEND;VALUE=DATE:20260316
DTSTAMP:20260423T164230
CREATED:20260227T014856Z
LAST-MODIFIED:20260227T014856Z
UID:55234-1773532800-1773619199@beavercanoeclub.org
SUMMARY:Widgeon Creek: Lake Water
DESCRIPTION:The penultimate BC experience: A tidal freshwater lake. A River. A slough in a marsh. A mountain trail. A waterfall in a canyon. Contact: Mike D mike2166@hotmail.com
URL:https://beavercanoeclub.org/event/widgeon-creek-lake-water-4/
CATEGORIES:Trips
END:VEVENT
BEGIN:VEVENT
DTSTART;VALUE=DATE:20260322
DTEND;VALUE=DATE:20260323
DTSTAMP:20260423T164230
CREATED:20260227T015155Z
LAST-MODIFIED:20260227T020600Z
UID:55237-1774137600-1774223999@beavercanoeclub.org
SUMMARY:Chilliwack River: Gr 2 & 3
DESCRIPTION:A long\, cold\, bumpy river section that never stops tumbling\, start to finish! This trip requires full outfitting and solid whitewater skills. Contact: Anne & Alain P   alain.p.prince@gmail.com \n  \n 
URL:https://beavercanoeclub.org/event/chilliwack-river-gr-2-3-2/
LOCATION:Chilliwack
CATEGORIES:Trips
ORGANIZER;CN="Alain P":MAILTO:alain.p.prince@gmail.com
END:VEVENT
BEGIN:VEVENT
DTSTART;VALUE=DATE:20260322
DTEND;VALUE=DATE:20260323
DTSTAMP:20260423T164230
CREATED:20260227T015640Z
LAST-MODIFIED:20260227T015640Z
UID:55239-1774137600-1774223999@beavercanoeclub.org
SUMMARY:Alouette River: Lake Water
DESCRIPTION:On this leisurely family-freindly trip\, there are as many possibilities as the river has tributaries. Maybe a meander through the farmlands of Pitt Meadows\, under the backdrop of Golden Ears peaks. Or maybe a lazy float through the forests of Maple Ridge. Contact: Katie S ksather@shaw.ca\n\n\n\n  \n 
URL:https://beavercanoeclub.org/event/alouette-river-lake-water/
LOCATION:Pitt Meadows\, British Columbia\, Canada
CATEGORIES:Trips
ORGANIZER;CN="Katie S":MAILTO:ksather@shaw.ca
END:VEVENT
BEGIN:VEVENT
DTSTART;VALUE=DATE:20260327
DTEND;VALUE=DATE:20260330
DTSTAMP:20260423T164230
CREATED:20260227T020333Z
LAST-MODIFIED:20260227T020333Z
UID:55243-1774569600-1774828799@beavercanoeclub.org
SUMMARY:Cowichan Weekend: Gr 2 & 3
DESCRIPTION:A weekend of fun in Duncan\, on Vancouver Island\, paddling the Cowichan\, Chemainus and nearby rivers\, with apres-paddle get-togethers to celebrate the day’s victories. Contact: Owen W owen.williams911@gmail.com 
URL:https://beavercanoeclub.org/event/cowichan-weekend-gr-2-3/
LOCATION:Duncan
CATEGORIES:Trips
END:VEVENT
BEGIN:VEVENT
DTSTART;VALUE=DATE:20260329
DTEND;VALUE=DATE:20260330
DTSTAMP:20260423T164230
CREATED:20260327T041250Z
LAST-MODIFIED:20260327T041250Z
UID:55414-1774742400-1774828799@beavercanoeclub.org
SUMMARY:Still Creek: Gilmore to Piper: Lake Water
DESCRIPTION:Dave S & Dave W think the water will be deep enough for this family paddle through Burnaby’s central valley\, so we cobbled this trip together at the last minute.  See the backwaters behind Burnaby’s industrial underbelly\, where the herons and beavers hide.   \nContact: Trips@beavercanoeclub.org
URL:https://beavercanoeclub.org/event/still-creek-gilmore-to-piper-lake-water/
LOCATION:Burnaby
CATEGORIES:Trips
END:VEVENT
BEGIN:VEVENT
DTSTART;VALUE=DATE:20260405
DTEND;VALUE=DATE:20260406
DTSTAMP:20260423T164230
CREATED:20260327T041714Z
LAST-MODIFIED:20260327T041714Z
UID:55417-1775347200-1775433599@beavercanoeclub.org
SUMMARY:Moody Inlet: Ocean
DESCRIPTION:We’ll paddle from a pocket beach on Ioco Rd to Belcarra Park and points north.  A fun family paddle for an Easter Sunday. \nContact: Dave W westell@shaw.ca
URL:https://beavercanoeclub.org/event/moody-inlet-ocean-4/
LOCATION:Port Moody
CATEGORIES:Trips
END:VEVENT
BEGIN:VEVENT
DTSTART;VALUE=DATE:20260412
DTEND;VALUE=DATE:20260413
DTSTAMP:20260423T164230
CREATED:20260308T041333Z
LAST-MODIFIED:20260308T041333Z
UID:55283-1775952000-1776038399@beavercanoeclub.org
SUMMARY:Upper Seymour River: Gr 2+ & 3
DESCRIPTION:This is a challenging run in North Vancouver that requires solid whitewater skills and full outfitting.  The levels have to be just right too.  If they aren’t\, Phil will reschedule for a better time in the near future. \nContact: Phil B “Phil Bates”ptbates@telus.net \n 
URL:https://beavercanoeclub.org/event/upper-seymour-river-gr-2-3-2/
LOCATION:North Vancouver
CATEGORIES:Trips
END:VEVENT
BEGIN:VEVENT
DTSTART;VALUE=DATE:20260412
DTEND;VALUE=DATE:20260413
DTSTAMP:20260423T164230
CREATED:20260308T043515Z
LAST-MODIFIED:20260329T235916Z
UID:55288-1775952000-1776038399@beavercanoeclub.org
SUMMARY:Fraser River North Arm: Gr 1-
DESCRIPTION:A family friendly paddle along a lazy river reveals the seldom seen sides of Burnaby\, Vancouver and Richmond.  Wildlife\, working boats\, vestiges of old industries\, and vistas of strolling weekenders. \nContact: Jim  S  jslade604@gmail.com
URL:https://beavercanoeclub.org/event/fraser-river-north-arm-gr-1-5/
LOCATION:Burnaby
CATEGORIES:Trips
END:VEVENT
BEGIN:VEVENT
DTSTART;VALUE=DATE:20260419
DTEND;VALUE=DATE:20260420
DTSTAMP:20260423T164230
CREATED:20260308T042236Z
LAST-MODIFIED:20260329T235816Z
UID:55285-1776556800-1776643199@beavercanoeclub.org
SUMMARY:Hatzic Lake: Lake Water
DESCRIPTION:A family friendly paddle in the Fraser Valley on shallow lake several channels and islands to explore.  The heron rookery is active this time of year. \nContact: Bob P  ubiquitousb7@gmail.com  \n 
URL:https://beavercanoeclub.org/event/hatzic-lake/
CATEGORIES:Trips
END:VEVENT
BEGIN:VEVENT
DTSTART;VALUE=DATE:20260426
DTEND;VALUE=DATE:20260427
DTSTAMP:20260423T164230
CREATED:20260310T204055Z
LAST-MODIFIED:20260329T201421Z
UID:55312-1777161600-1777247999@beavercanoeclub.org
SUMMARY:Burnaby Lake: Lake Water
DESCRIPTION:A paddle through the wetlands of Central Burnaby.  Practice your Basic Paddler strokes. Watch the birds  Bring your family.   \nContact: Peter G   pgutzmann@hotmail.ca
URL:https://beavercanoeclub.org/event/burnaby-lake-and-still-creek-lake-water-2/
LOCATION:Burnaby
CATEGORIES:Trips
END:VEVENT
BEGIN:VEVENT
DTSTART;VALUE=DATE:20260503
DTEND;VALUE=DATE:20260504
DTSTAMP:20260423T164230
CREATED:20260310T205552Z
LAST-MODIFIED:20260420T052053Z
UID:55316-1777766400-1777852799@beavercanoeclub.org
SUMMARY:Steveston Tall Ship Paddle
DESCRIPTION:Tall ship Kaiwo Maru is visiting Steveston Harbour\, and we’ll be paddling there to see it\, and maybe a chance to see other things in town\, like Britannia Shipyards\, the Cannery National Historic Site\, and Pajos Fish & Chips.   Who knows? \nContact: Madeline W   John.Onderdonk@telus.net
URL:https://beavercanoeclub.org/event/salmon-river-2/
LOCATION:Steveston
CATEGORIES:Trips
END:VEVENT
BEGIN:VEVENT
DTSTART;VALUE=DATE:20260510
DTEND;VALUE=DATE:20260511
DTSTAMP:20260423T164230
CREATED:20260310T210532Z
LAST-MODIFIED:20260310T210532Z
UID:55321-1778371200-1778457599@beavercanoeclub.org
SUMMARY:Twin Islands:  Ocean
DESCRIPTION:A family-friendly paddle in the sheltered ocean waters between North Vancouver\, Burnaby and Port Moody. \nContact Bryan G  bryan_gormann@sfu.ca
URL:https://beavercanoeclub.org/event/twin-islands-ocean-2/
CATEGORIES:Trips
END:VEVENT
BEGIN:VEVENT
DTSTART;VALUE=DATE:20260517
DTEND;VALUE=DATE:20260518
DTSTAMP:20260423T164230
CREATED:20260310T211224Z
LAST-MODIFIED:20260310T211358Z
UID:55323-1778976000-1779062399@beavercanoeclub.org
SUMMARY:Nicomen Slough: Lake Water
DESCRIPTION:A family friendly paddle through the countryside between Mission and Agassiz.  \nContact:  ubiquitousb7@gmail.com
URL:https://beavercanoeclub.org/event/nicomen-slough-4/
CATEGORIES:Trips
END:VEVENT
BEGIN:VEVENT
DTSTART;VALUE=DATE:20260524
DTEND;VALUE=DATE:20260525
DTSTAMP:20260423T164230
CREATED:20260420T050928Z
LAST-MODIFIED:20260420T050928Z
UID:55529-1779580800-1779667199@beavercanoeclub.org
SUMMARY:Still Creek and Burnaby Lake: Lake Water
DESCRIPTION:Rob B will lead us on another venture on this popular\, nearby paddle through Burnaby’s Central Valley. \nContact:  Rob B  rbrusse1@telus.net
URL:https://beavercanoeclub.org/event/still-creek-and-burnaby-lake-lake-water/
CATEGORIES:Trips
ORGANIZER;CN="Rob B":MAILTO:rbrusse1@telus.net
END:VEVENT
BEGIN:VEVENT
DTSTART;VALUE=DATE:20260606
DTEND;VALUE=DATE:20260608
DTSTAMP:20260423T164230
CREATED:20260316T034740Z
LAST-MODIFIED:20260316T192512Z
UID:55369-1780704000-1780876799@beavercanoeclub.org
SUMMARY:TRIP: Mamquam Weekend: Gr 1 & 2
DESCRIPTION:This is a a two-day mentored weekend on the Mamquam River in Squamish is intended primarily for recent graduates of the Intro to Moving Water to get more practice and exposure to river paddling before Rivers Week and other summer white water venues. \nRegister in advance: Marc G: chez.guimond@gmail.com
URL:https://beavercanoeclub.org/event/training-mamquam-weekend-gr-1-2/
CATEGORIES:Trips
ORGANIZER;CN="Marc G":MAILTO:chez.guimond@gmail.com
END:VEVENT
BEGIN:VEVENT
DTSTART;VALUE=DATE:20260620
DTEND;VALUE=DATE:20260629
DTSTAMP:20260423T164230
CREATED:20260414T030124Z
LAST-MODIFIED:20260414T030124Z
UID:55484-1781913600-1782691199@beavercanoeclub.org
SUMMARY:Rivers Week
DESCRIPTION:A week of Rivers and more\, starting on the Similkameen near Princeton\, and continuing hopefully on the Tulameen.  Then\, for the second part of the week\, there are 3 possibilities:  1) Nicola River near Merrit\, or 2) Shuswap River near Cherryville\, or 3) Thompson River near Kamloops.  We’ll know which option closer to the time\, depending on the where we find the best water levels.
URL:https://beavercanoeclub.org/event/rivers-week/
CATEGORIES:Trips
END:VEVENT
BEGIN:VEVENT
DTSTART;VALUE=DATE:20260711
DTEND;VALUE=DATE:20260714
DTSTAMP:20260423T164230
CREATED:20260420T054601Z
LAST-MODIFIED:20260420T054601Z
UID:55538-1783728000-1783987199@beavercanoeclub.org
SUMMARY:Granite Falls Canoe Camping Trip: Ocean
DESCRIPTION:A nearby wilderness area a few hours from Deep Cove.  Share a beautiful stretch of ocean with the seals\, starfish\, jellyfish\, and once in a while\, killer whales. \nTrip Leader needed\, but for now\, state your interest to the Trip Director:  trips@beavercanoeclub.org 
URL:https://beavercanoeclub.org/event/granite-falls-canoe-camping-trip-ocean-2/
LOCATION:Cates Park\, North Vancouver\, Canada
CATEGORIES:Trips
END:VEVENT
BEGIN:VEVENT
DTSTART;VALUE=DATE:20260726
DTEND;VALUE=DATE:20260727
DTSTAMP:20260423T164230
CREATED:20260420T053121Z
LAST-MODIFIED:20260420T053121Z
UID:55533-1785024000-1785110399@beavercanoeclub.org
SUMMARY:Stave Lake and Cardinalis Creek
DESCRIPTION:A family-friendly paddle just north of Mission.  Bring swimming gear and prepare to hang out a while to enjoy a mid summer afternoon. \nContact: Bob P   ubiquitousb7@gmail.com  
URL:https://beavercanoeclub.org/event/stave-lake-and-cardinalis-creek/
LOCATION:Mission
CATEGORIES:Trips
ORGANIZER;CN="Bob P":MAILTO:ubiquitousb7@gmail.com
END:VEVENT
BEGIN:VEVENT
DTSTART;VALUE=DATE:20260830
DTEND;VALUE=DATE:20260831
DTSTAMP:20260423T164230
CREATED:20260327T043106Z
LAST-MODIFIED:20260327T043106Z
UID:55422-1788048000-1788134399@beavercanoeclub.org
SUMMARY:Serpentine & Nicomekl Estuaries:  Lakewater & Ocean
DESCRIPTION:This is a fun family paddle in South Surrey\, following the Serpentine through the mouth\, crossing Mud Bay\, then winding up the Nicomekl River\, dam to dam.     There’s a plenty of birds on the way\, a lunch stop at Crescent Beach\, maybe a rest break at Elgin Park historic farm\, and maybe\, just maybe a float by past a seal colony. \nContact:  Simon W  simonpwatkins@gmail.com
URL:https://beavercanoeclub.org/event/serpentine-nicomekl-estuaries-lakewater-ocean/
LOCATION:White Rock
CATEGORIES:Trips
END:VEVENT
BEGIN:VEVENT
DTSTART;VALUE=DATE:20260906
DTEND;VALUE=DATE:20260914
DTSTAMP:20260423T164230
CREATED:20251227T221302Z
LAST-MODIFIED:20260310T201332Z
UID:55125-1788652800-1789343999@beavercanoeclub.org
SUMMARY:Bowron Lakes Canoe Circuit (trip 1)
DESCRIPTION:There are still a few spaces  on this trip\, so express your interest early! \nemail Dave W westell@shaw.ca  \n 
URL:https://beavercanoeclub.org/event/bowron-lakes-canoe-circuit/
LOCATION:Quesnel
CATEGORIES:Trips
ORGANIZER;CN="Dave W":MAILTO:westell@shaw.ca
END:VEVENT
BEGIN:VEVENT
DTSTART;VALUE=DATE:20260913
DTEND;VALUE=DATE:20260921
DTSTAMP:20260423T164230
CREATED:20260310T201832Z
LAST-MODIFIED:20260310T201832Z
UID:55307-1789257600-1789948799@beavercanoeclub.org
SUMMARY:Bowron Lakes Canoe Circuit (trip 2)
DESCRIPTION:This trip is filled up\, but there is still room in the Bowron trip from Sep 6 to 13.
URL:https://beavercanoeclub.org/event/bowron-lakes-canoe-circuit-trip-2/
LOCATION:Quesnel
CATEGORIES:Trips
END:VEVENT
END:VCALENDAR