BEGIN:VCALENDAR
VERSION:2.0
PRODID:-//the Beaver Canoe Club - ECPv6.10.1.1//NONSGML v1.0//EN
CALSCALE:GREGORIAN
METHOD:PUBLISH
X-ORIGINAL-URL:https://beavercanoeclub.org
X-WR-CALDESC:Events for the Beaver Canoe Club
REFRESH-INTERVAL;VALUE=DURATION:PT1H
X-Robots-Tag:noindex
X-PUBLISHED-TTL:PT1H
BEGIN:VTIMEZONE
TZID:America/Vancouver
BEGIN:DAYLIGHT
TZOFFSETFROM:-0800
TZOFFSETTO:-0700
TZNAME:PDT
DTSTART:20250309T100000
END:DAYLIGHT
BEGIN:STANDARD
TZOFFSETFROM:-0700
TZOFFSETTO:-0800
TZNAME:PST
DTSTART:20251102T090000
END:STANDARD
END:VTIMEZONE
BEGIN:VEVENT
DTSTART;VALUE=DATE:20250525
DTEND;VALUE=DATE:20250526
DTSTAMP:20260424T052348
CREATED:20250322T041011Z
LAST-MODIFIED:20250510T023515Z
UID:54675-1748131200-1748217599@beavercanoeclub.org
SUMMARY:Fraser River\, North Arm: Gr 1 & 1-
DESCRIPTION:A family friendly paddle along the waterfronts of Burnaby\, Richmond and Vancouver.   \n!! THIS PADDLE HAS CHANGED TO SUNDAY MAY25TH !! \nContact: Jim S  jslade01@shaw.ca  
URL:https://beavercanoeclub.org/event/fraser-river-north-arm-gr-1-1/
LOCATION:Burnaby
CATEGORIES:Trips
ORGANIZER;CN="Jim S":MAILTO:jslade01@shaw.ca
END:VEVENT
END:VCALENDAR