BEGIN:VCALENDAR
VERSION:2.0
PRODID:-//the Beaver Canoe Club - ECPv6.10.1.1//NONSGML v1.0//EN
CALSCALE:GREGORIAN
METHOD:PUBLISH
X-WR-CALNAME:the Beaver Canoe Club
X-ORIGINAL-URL:https://beavercanoeclub.org
X-WR-CALDESC:Events for the Beaver Canoe Club
REFRESH-INTERVAL;VALUE=DURATION:PT1H
X-Robots-Tag:noindex
X-PUBLISHED-TTL:PT1H
BEGIN:VTIMEZONE
TZID:America/Vancouver
BEGIN:DAYLIGHT
TZOFFSETFROM:-0800
TZOFFSETTO:-0700
TZNAME:PDT
DTSTART:20250309T100000
END:DAYLIGHT
BEGIN:STANDARD
TZOFFSETFROM:-0700
TZOFFSETTO:-0800
TZNAME:PST
DTSTART:20251102T090000
END:STANDARD
END:VTIMEZONE
BEGIN:VEVENT
DTSTART;VALUE=DATE:20250418
DTEND;VALUE=DATE:20250422
DTSTAMP:20260424T034343
CREATED:20250228T215004Z
LAST-MODIFIED:20250228T215004Z
UID:54554-1744934400-1745279999@beavercanoeclub.org
SUMMARY:Easter Campout TBD
DESCRIPTION:If you have an idea for a spring paddling getaway or even a day trip or two\, and would like to lead or be the contact your Trips Director\,  and we can post it here. \nContact:  Dave @W westell@shaw.ca
URL:https://beavercanoeclub.org/event/easter-campout-tbd/
CATEGORIES:Trips
END:VEVENT
END:VCALENDAR