BEGIN:VCALENDAR
VERSION:2.0
PRODID:-//the Beaver Canoe Club - ECPv6.10.1.1//NONSGML v1.0//EN
CALSCALE:GREGORIAN
METHOD:PUBLISH
X-ORIGINAL-URL:https://beavercanoeclub.org
X-WR-CALDESC:Events for the Beaver Canoe Club
REFRESH-INTERVAL;VALUE=DURATION:PT1H
X-Robots-Tag:noindex
X-PUBLISHED-TTL:PT1H
BEGIN:VTIMEZONE
TZID:America/Vancouver
BEGIN:DAYLIGHT
TZOFFSETFROM:-0800
TZOFFSETTO:-0700
TZNAME:PDT
DTSTART:20250309T100000
END:DAYLIGHT
BEGIN:STANDARD
TZOFFSETFROM:-0700
TZOFFSETTO:-0800
TZNAME:PST
DTSTART:20251102T090000
END:STANDARD
END:VTIMEZONE
BEGIN:VEVENT
DTSTART;VALUE=DATE:20250413
DTEND;VALUE=DATE:20250414
DTSTAMP:20260424T034821
CREATED:20250322T033030Z
LAST-MODIFIED:20250322T033502Z
UID:54655-1744502400-1744588799@beavercanoeclub.org
SUMMARY:Nicomen Slough: Lake Water
DESCRIPTION:We’re hoping for enough water for this picturesque family friendly paddle through the lowlands between Mission and Agassiz.    \nContact:  Bob P ubiquitousb7@gmail.com
URL:https://beavercanoeclub.org/event/nicomen-slough-3/
LOCATION:Mission
CATEGORIES:Trips
ORGANIZER;CN="Bob P":MAILTO:ubiquitousb7@gmail.com
END:VEVENT
END:VCALENDAR