BEGIN:VCALENDAR
VERSION:2.0
PRODID:-//the Beaver Canoe Club - ECPv6.10.1.1//NONSGML v1.0//EN
CALSCALE:GREGORIAN
METHOD:PUBLISH
X-WR-CALNAME:the Beaver Canoe Club
X-ORIGINAL-URL:https://beavercanoeclub.org
X-WR-CALDESC:Events for the Beaver Canoe Club
REFRESH-INTERVAL;VALUE=DURATION:PT1H
X-Robots-Tag:noindex
X-PUBLISHED-TTL:PT1H
BEGIN:VTIMEZONE
TZID:America/Vancouver
BEGIN:DAYLIGHT
TZOFFSETFROM:-0800
TZOFFSETTO:-0700
TZNAME:PDT
DTSTART:20250309T100000
END:DAYLIGHT
BEGIN:STANDARD
TZOFFSETFROM:-0700
TZOFFSETTO:-0800
TZNAME:PST
DTSTART:20251102T090000
END:STANDARD
END:VTIMEZONE
BEGIN:VEVENT
DTSTART;VALUE=DATE:20250328
DTEND;VALUE=DATE:20250331
DTSTAMP:20260423T164438
CREATED:20250228T201022Z
LAST-MODIFIED:20250228T201022Z
UID:54525-1743120000-1743379199@beavercanoeclub.org
SUMMARY:Cowichan Paddling Weekend: Gr 1+ to 3
DESCRIPTION:A weekend of whitewater rivers on Vancouver Island near Duncan.  Register early.    \nContact:  Owen W owen.williams911@gmail.com 
URL:https://beavercanoeclub.org/event/cowichan-paddling-weekend-gr-1-to-3/
LOCATION:Duncan
CATEGORIES:Trips
END:VEVENT
END:VCALENDAR