BEGIN:VCALENDAR
VERSION:2.0
PRODID:-//the Beaver Canoe Club - ECPv6.10.1.1//NONSGML v1.0//EN
CALSCALE:GREGORIAN
METHOD:PUBLISH
X-ORIGINAL-URL:https://beavercanoeclub.org
X-WR-CALDESC:Events for the Beaver Canoe Club
REFRESH-INTERVAL;VALUE=DURATION:PT1H
X-Robots-Tag:noindex
X-PUBLISHED-TTL:PT1H
BEGIN:VTIMEZONE
TZID:America/Vancouver
BEGIN:DAYLIGHT
TZOFFSETFROM:-0800
TZOFFSETTO:-0700
TZNAME:PDT
DTSTART:20250309T100000
END:DAYLIGHT
BEGIN:STANDARD
TZOFFSETFROM:-0700
TZOFFSETTO:-0800
TZNAME:PST
DTSTART:20251102T090000
END:STANDARD
END:VTIMEZONE
BEGIN:VEVENT
DTSTART;VALUE=DATE:20250504
DTEND;VALUE=DATE:20250505
DTSTAMP:20260424T034224
CREATED:20250322T033925Z
LAST-MODIFIED:20250429T031209Z
UID:54662-1746316800-1746403199@beavercanoeclub.org
SUMMARY:Burnaby Lake: Lake Water
DESCRIPTION:This family and beginner friendly paddle is the perfect place for Basic Paddlers students to practice their newfound strokes before next week’s session – or just to enjoy a natural area teeming with wildlife in the middle of the city!  \nContact:  Peter G  pgutzmann@hotmail.ca \n 
URL:https://beavercanoeclub.org/event/still-creek-burnaby-lake-lake-water/
LOCATION:Burnaby
CATEGORIES:Trips
END:VEVENT
BEGIN:VEVENT
DTSTART;VALUE=DATE:20250504
DTEND;VALUE=DATE:20250505
DTSTAMP:20260424T034224
CREATED:20250322T034237Z
LAST-MODIFIED:20250322T034237Z
UID:54666-1746316800-1746403199@beavercanoeclub.org
SUMMARY:Upper Seymour River: Gr 3
DESCRIPTION:A full-on raucous whitewater paddle through the Seymour headwaters in the Seymour Demonstration Forest.  Advanced whitewater skills and full outfitting required.  \nContact: Phil B ptbates@telus.net   \n 
URL:https://beavercanoeclub.org/event/upper-seymour-river-gr-3-3/
LOCATION:North Vancouver\, British Columbia\, Canada
CATEGORIES:Trips
END:VEVENT
BEGIN:VEVENT
DTSTART;VALUE=DATE:20250511
DTEND;VALUE=DATE:20250512
DTSTAMP:20260424T034224
CREATED:20250322T042544Z
LAST-MODIFIED:20250430T023244Z
UID:54677-1746921600-1747007999@beavercanoeclub.org
SUMMARY:Lower Coquitlam River: Gr 1+
DESCRIPTION:There’s always enough water on this popular route\, and seldom too much.   There’s just enough current to help us along\, and a tree or two on a gravel bar where we hop out once or twice.  On the way from Prairie Avenue to the Fraser River\, we pass through several city parks and Colony Farm Regional Park. \nContact: Rebecca H  rebecca.helps@gmail.com
URL:https://beavercanoeclub.org/event/lower-coquitlam-river-gr-1-3/
LOCATION:Port Coquitlam
CATEGORIES:Trips
ORGANIZER;CN="Rebecca H":MAILTO:rebecca.helps@gmail.com
END:VEVENT
BEGIN:VEVENT
DTSTART;VALUE=DATE:20250518
DTEND;VALUE=DATE:20250519
DTSTAMP:20260424T034224
CREATED:20250322T035929Z
LAST-MODIFIED:20250322T035929Z
UID:54668-1747526400-1747612799@beavercanoeclub.org
SUMMARY:Moody Inlet: Ocean
DESCRIPTION:Did you know that on salt water your canoe floats a little higher?  This is a family friendly paddle in the sheltered waters of Burrard and Moody Inlets and the North Arm.  Put in at a pocket beach near Ioco Road and see where your trip leader takes you:  Rocky Point? Belcarra?  Deep Cove?  or beyond? \nContact: Trish K  trishkinsey@gmail.com 
URL:https://beavercanoeclub.org/event/moody-inlet-ocean-2/
LOCATION:Port Moody
CATEGORIES:Trips
ORGANIZER;CN="Trish K":MAILTO:trishkinsey@gmail.com
END:VEVENT
BEGIN:VEVENT
DTSTART;VALUE=DATE:20250525
DTEND;VALUE=DATE:20250526
DTSTAMP:20260424T034224
CREATED:20250322T041011Z
LAST-MODIFIED:20250510T023515Z
UID:54675-1748131200-1748217599@beavercanoeclub.org
SUMMARY:Fraser River\, North Arm: Gr 1 & 1-
DESCRIPTION:A family friendly paddle along the waterfronts of Burnaby\, Richmond and Vancouver.   \n!! THIS PADDLE HAS CHANGED TO SUNDAY MAY25TH !! \nContact: Jim S  jslade01@shaw.ca  
URL:https://beavercanoeclub.org/event/fraser-river-north-arm-gr-1-1/
LOCATION:Burnaby
CATEGORIES:Trips
ORGANIZER;CN="Jim S":MAILTO:jslade01@shaw.ca
END:VEVENT
END:VCALENDAR